BEGIN:VCALENDAR
VERSION:2.0
PRODID:-//Live in Lou - ECPv6.15.20//NONSGML v1.0//EN
CALSCALE:GREGORIAN
METHOD:PUBLISH
X-ORIGINAL-URL:https://www.liveinlou.com
X-WR-CALDESC:Events for Live in Lou
REFRESH-INTERVAL;VALUE=DURATION:PT1H
X-Robots-Tag:noindex
X-PUBLISHED-TTL:PT1H
BEGIN:VTIMEZONE
TZID:America/Kentucky/Louisville
BEGIN:DAYLIGHT
TZOFFSETFROM:-0500
TZOFFSETTO:-0400
TZNAME:EDT
DTSTART:20250309T070000
END:DAYLIGHT
BEGIN:STANDARD
TZOFFSETFROM:-0400
TZOFFSETTO:-0500
TZNAME:EST
DTSTART:20251102T060000
END:STANDARD
BEGIN:DAYLIGHT
TZOFFSETFROM:-0500
TZOFFSETTO:-0400
TZNAME:EDT
DTSTART:20260308T070000
END:DAYLIGHT
BEGIN:STANDARD
TZOFFSETFROM:-0400
TZOFFSETTO:-0500
TZNAME:EST
DTSTART:20261101T060000
END:STANDARD
BEGIN:DAYLIGHT
TZOFFSETFROM:-0500
TZOFFSETTO:-0400
TZNAME:EDT
DTSTART:20270314T070000
END:DAYLIGHT
BEGIN:STANDARD
TZOFFSETFROM:-0400
TZOFFSETTO:-0500
TZNAME:EST
DTSTART:20271107T060000
END:STANDARD
END:VTIMEZONE
BEGIN:VEVENT
DTSTART;TZID=America/Kentucky/Louisville:20260222T120000
DTEND;TZID=America/Kentucky/Louisville:20260222T143000
DTSTAMP:20260423T082746
CREATED:20260113T160221Z
LAST-MODIFIED:20260113T160221Z
UID:10000218-1771761600-1771770600@www.liveinlou.com
SUMMARY:Louisville WBB vs. Virignia
DESCRIPTION:Cheer on the Cards as they compete against the Cavaliers.
URL:https://www.liveinlou.com/event/louisville-wbb-vs-virignia/
LOCATION:KFC Yum! Center\, 1 Arena Plaza\, Louisville\, KY\, 40202\, United States
END:VEVENT
BEGIN:VEVENT
DTSTART;TZID=America/Kentucky/Louisville:20260222T120000
DTEND;TZID=America/Kentucky/Louisville:20260222T143000
DTSTAMP:20260423T082746
CREATED:20260113T160322Z
LAST-MODIFIED:20260113T160322Z
UID:10000226-1771761600-1771770600@www.liveinlou.com
SUMMARY:USA Gymnastics Winter Cup
DESCRIPTION:The 2026 Winter Cup is a qualifying event to the 2026 Xfinity U.S. Gymnastics Championships.The Winter Cup will also culminate in the selection of the Men’s Senior National Team to be named following the competition.
URL:https://www.liveinlou.com/event/usa-gymnastics-winter-cup-2/
END:VEVENT
BEGIN:VEVENT
DTSTART;TZID=America/Kentucky/Louisville:20260222T170000
DTEND;TZID=America/Kentucky/Louisville:20260222T190000
DTSTAMP:20260423T082746
CREATED:20260120T154738Z
LAST-MODIFIED:20260120T164940Z
UID:10000256-1771779600-1771786800@www.liveinlou.com
SUMMARY:Trivia at West Sixth Nulu!
DESCRIPTION:Grab a drink and join Trivia happening every Sunday at 5 pm. Get ready to put your knowledge to the test! They are also dog friendly!
URL:https://www.liveinlou.com/event/trivia-at-west-sixth-nulu/2026-02-22/
LOCATION:West Sixth Nulu\, 817 E Market Street Suite 101\, Louisville\, Kentucky
CATEGORIES:Bourbon + More,Community Fun,Trivia
END:VEVENT
END:VCALENDAR