BEGIN:VCALENDAR
VERSION:2.0
PRODID:-//Live in Lou - ECPv6.15.20//NONSGML v1.0//EN
CALSCALE:GREGORIAN
METHOD:PUBLISH
X-ORIGINAL-URL:https://www.liveinlou.com
X-WR-CALDESC:Events for Live in Lou
REFRESH-INTERVAL;VALUE=DURATION:PT1H
X-Robots-Tag:noindex
X-PUBLISHED-TTL:PT1H
BEGIN:VTIMEZONE
TZID:America/Kentucky/Louisville
BEGIN:DAYLIGHT
TZOFFSETFROM:-0500
TZOFFSETTO:-0400
TZNAME:EDT
DTSTART:20250309T070000
END:DAYLIGHT
BEGIN:STANDARD
TZOFFSETFROM:-0400
TZOFFSETTO:-0500
TZNAME:EST
DTSTART:20251102T060000
END:STANDARD
BEGIN:DAYLIGHT
TZOFFSETFROM:-0500
TZOFFSETTO:-0400
TZNAME:EDT
DTSTART:20260308T070000
END:DAYLIGHT
BEGIN:STANDARD
TZOFFSETFROM:-0400
TZOFFSETTO:-0500
TZNAME:EST
DTSTART:20261101T060000
END:STANDARD
BEGIN:DAYLIGHT
TZOFFSETFROM:-0500
TZOFFSETTO:-0400
TZNAME:EDT
DTSTART:20270314T070000
END:DAYLIGHT
BEGIN:STANDARD
TZOFFSETFROM:-0400
TZOFFSETTO:-0500
TZNAME:EST
DTSTART:20271107T060000
END:STANDARD
END:VTIMEZONE
BEGIN:VEVENT
DTSTART;VALUE=DATE:20260304
DTEND;VALUE=DATE:20260316
DTSTAMP:20260422T055632
CREATED:20260115T173234Z
LAST-MODIFIED:20260204T154416Z
UID:10000248-1772582400-1773619199@www.liveinlou.com
SUMMARY:Actors Theatre presents Fiasco Theatre's "The Comedy of Errors"
DESCRIPTION:Actors Theatre of Louisville welcomes back New York-based company Fiasco Theater as they combine their joyful\, actor-driven approach to Shakespeare with the ingenuity of The Saunders Collective—a family of multi-talented performers\, singers\, composers and producers. Featuring original music\, this collaboration breathes magical new life into the classic madcap farce about two pairs of identical twins\, separated in a shipwreck\, whose day roaming the same city leads to mistaken identities\, cascading misadventures\, and gloriously silly comic confusion. \nGet tickets here: https://www.actorstheatre.org/events/comedy-of-errors#tickets
URL:https://www.liveinlou.com/event/actors-theatre-presents-fiasco-theatres-the-comedy-of-errors/
LOCATION:Actors Theatre of Louisville\, 316 West Main St.\, Louisville\, KY\, 40202\, United States
CATEGORIES:Community Fun,Performing Arts
END:VEVENT
BEGIN:VEVENT
DTSTART;TZID=America/Kentucky/Louisville:20260309T180000
DTEND;TZID=America/Kentucky/Louisville:20260309T190000
DTSTAMP:20260422T055632
CREATED:20260120T155029Z
LAST-MODIFIED:20260304T152221Z
UID:10000307-1773079200-1773082800@www.liveinlou.com
SUMMARY:Yoga at West Sixth Nulu!
DESCRIPTION:Come join us for Community Yoga at West Sixth Nulu. The instructor does this every Monday at 6 pm\, all levels are welcome. This event is donation-based\, give what you can!
URL:https://www.liveinlou.com/event/yoga-at-west-sixth-nulu/2026-03-09/
LOCATION:West Sixth Nulu\, 817 E Market Street Suite 101\, Louisville\, Kentucky
CATEGORIES:Community Fun,Family Fun
END:VEVENT
END:VCALENDAR