BEGIN:VCALENDAR
VERSION:2.0
PRODID:-//Live in Lou - ECPv6.15.20//NONSGML v1.0//EN
CALSCALE:GREGORIAN
METHOD:PUBLISH
X-ORIGINAL-URL:https://www.liveinlou.com
X-WR-CALDESC:Events for Live in Lou
REFRESH-INTERVAL;VALUE=DURATION:PT1H
X-Robots-Tag:noindex
X-PUBLISHED-TTL:PT1H
BEGIN:VTIMEZONE
TZID:America/Kentucky/Louisville
BEGIN:DAYLIGHT
TZOFFSETFROM:-0500
TZOFFSETTO:-0400
TZNAME:EDT
DTSTART:20250309T070000
END:DAYLIGHT
BEGIN:STANDARD
TZOFFSETFROM:-0400
TZOFFSETTO:-0500
TZNAME:EST
DTSTART:20251102T060000
END:STANDARD
BEGIN:DAYLIGHT
TZOFFSETFROM:-0500
TZOFFSETTO:-0400
TZNAME:EDT
DTSTART:20260308T070000
END:DAYLIGHT
BEGIN:STANDARD
TZOFFSETFROM:-0400
TZOFFSETTO:-0500
TZNAME:EST
DTSTART:20261101T060000
END:STANDARD
BEGIN:DAYLIGHT
TZOFFSETFROM:-0500
TZOFFSETTO:-0400
TZNAME:EDT
DTSTART:20270314T070000
END:DAYLIGHT
BEGIN:STANDARD
TZOFFSETFROM:-0400
TZOFFSETTO:-0500
TZNAME:EST
DTSTART:20271107T060000
END:STANDARD
END:VTIMEZONE
BEGIN:VEVENT
DTSTART;VALUE=DATE:20260327
DTEND;VALUE=DATE:20260330
DTSTAMP:20260423T133311
CREATED:20260205T150843Z
LAST-MODIFIED:20260205T150843Z
UID:10000324-1774569600-1774828799@www.liveinlou.com
SUMMARY:Louisville Bats vs. Omaha Storm Chasers
DESCRIPTION:Join us back in Slugger Field for the Louisville Bat’s first games of 2026! \nFriday\, March 27 –  7:15pm \nSaturday\, March 28 – 1:00pm \nSunday\, March 29 – 1:00pm
URL:https://www.liveinlou.com/event/louisville-bats-vs-omaha-storm-chasers/
LOCATION:Louisville Slugger Field\, 401 E Main Street\, Louisville\, Kentucky\, 40202
CATEGORIES:Community Fun,Family Fun,Sports
END:VEVENT
BEGIN:VEVENT
DTSTART;VALUE=DATE:20260327
DTEND;VALUE=DATE:20260330
DTSTAMP:20260423T133311
CREATED:20260205T161848Z
LAST-MODIFIED:20260205T161848Z
UID:10000327-1774569600-1774828799@www.liveinlou.com
SUMMARY:Louisville Ballet's Choreographers' Showcase
DESCRIPTION:Step into the studio for an up-close and personal look at a mix of bold new works. This dynamic annual production highlights the artistry and athleticism of ballet in a behind-the-scenes studio setting. \nWhile this production is a yearly tradition\, no two premieres of Choreographers’ Showcase are alike; styles range from classical to contemporary\, with everything in between. With limited general admission seating\, you’ll be just inches away from the artists you typically see on stage — and seconds away from discovering your new favorite ballets. \nMore tickets and more information: Events | Louisville Ballet \nFriday\, March 27 – 7:30pm \nSaturday\, March 28 – 1:30pm \nSaturday\, March 28 – 7:30pm \nSunday\, March 29 – 1:30pm
URL:https://www.liveinlou.com/event/louisville-ballets-choreographers-showcase-2/
LOCATION:Louisville Ballet Studio\, 315 E Main Street\, Louisville\, KY\, 40202\, United States
CATEGORIES:Performing Arts
END:VEVENT
BEGIN:VEVENT
DTSTART;TZID=America/Kentucky/Louisville:20260328T120000
DTEND;TZID=America/Kentucky/Louisville:20260328T180000
DTSTAMP:20260423T133311
CREATED:20260205T150058Z
LAST-MODIFIED:20260205T150058Z
UID:10000321-1774699200-1774720800@www.liveinlou.com
SUMMARY:NuLu Block Fest & Wurst Fest
DESCRIPTION:2026 marks the ninth year of the beloved event. This street festival spans 4 blocks within the NuLu neighborhood featuring the Jefferson County Farm Bureau adult and baby goat races\, locally crafted bock beer\, live music\, kids activities\, local vendors and more! \nThe annual Kentucky Proud Wurst Fest provides local restaurants the opportunity to put their spin on this traditional dish for the chance to be crowned the Best of the Wurst Fest Winner.
URL:https://www.liveinlou.com/event/nulu-block-fest-wurst-fest/
LOCATION:NuLu\, 729 E Market Street\, Louisville\, KY\, 40202\, United States
CATEGORIES:Community Fun,Family Fun,Festivals,Food,Music
END:VEVENT
BEGIN:VEVENT
DTSTART;TZID=America/Kentucky/Louisville:20260328T200000
DTEND;TZID=America/Kentucky/Louisville:20260328T230000
DTSTAMP:20260423T133311
CREATED:20260205T162726Z
LAST-MODIFIED:20260205T162726Z
UID:10000331-1774728000-1774738800@www.liveinlou.com
SUMMARY:Matt Rife: Stay Golden Tour
DESCRIPTION:Get ready for Matt Rife\, American comedian and actor known for his self-produced comedy specials! The Stay Golden World Tour 2026 is coming to Louisville on Saturday\, March 28th!
URL:https://www.liveinlou.com/event/matt-rife-stay-golden-tour/
LOCATION:KFC Yum! Center\, 1 Arena Plaza\, Louisville\, KY\, 40202\, United States
CATEGORIES:Community Fun,Performing Arts
END:VEVENT
END:VCALENDAR