BEGIN:VCALENDAR
VERSION:2.0
PRODID:-//Live in Lou - ECPv6.15.20//NONSGML v1.0//EN
CALSCALE:GREGORIAN
METHOD:PUBLISH
X-ORIGINAL-URL:https://www.liveinlou.com
X-WR-CALDESC:Events for Live in Lou
REFRESH-INTERVAL;VALUE=DURATION:PT1H
X-Robots-Tag:noindex
X-PUBLISHED-TTL:PT1H
BEGIN:VTIMEZONE
TZID:America/Kentucky/Louisville
BEGIN:DAYLIGHT
TZOFFSETFROM:-0500
TZOFFSETTO:-0400
TZNAME:EDT
DTSTART:20250309T070000
END:DAYLIGHT
BEGIN:STANDARD
TZOFFSETFROM:-0400
TZOFFSETTO:-0500
TZNAME:EST
DTSTART:20251102T060000
END:STANDARD
BEGIN:DAYLIGHT
TZOFFSETFROM:-0500
TZOFFSETTO:-0400
TZNAME:EDT
DTSTART:20260308T070000
END:DAYLIGHT
BEGIN:STANDARD
TZOFFSETFROM:-0400
TZOFFSETTO:-0500
TZNAME:EST
DTSTART:20261101T060000
END:STANDARD
BEGIN:DAYLIGHT
TZOFFSETFROM:-0500
TZOFFSETTO:-0400
TZNAME:EDT
DTSTART:20270314T070000
END:DAYLIGHT
BEGIN:STANDARD
TZOFFSETFROM:-0400
TZOFFSETTO:-0500
TZNAME:EST
DTSTART:20271107T060000
END:STANDARD
END:VTIMEZONE
BEGIN:VEVENT
DTSTART;TZID=America/Kentucky/Louisville:20260301T170000
DTEND;TZID=America/Kentucky/Louisville:20260301T190000
DTSTAMP:20260421T225022
CREATED:20260120T154738Z
LAST-MODIFIED:20260120T164940Z
UID:10000257-1772384400-1772391600@www.liveinlou.com
SUMMARY:Trivia at West Sixth Nulu!
DESCRIPTION:Grab a drink and join Trivia happening every Sunday at 5 pm. Get ready to put your knowledge to the test! They are also dog friendly!
URL:https://www.liveinlou.com/event/trivia-at-west-sixth-nulu/2026-03-01/
LOCATION:West Sixth Nulu\, 817 E Market Street Suite 101\, Louisville\, Kentucky
CATEGORIES:Bourbon + More,Community Fun,Trivia
END:VEVENT
BEGIN:VEVENT
DTSTART;TZID=America/Kentucky/Louisville:20260304T200000
DTEND;TZID=America/Kentucky/Louisville:20260304T233000
DTSTAMP:20260421T225022
CREATED:20260120T155755Z
LAST-MODIFIED:20260325T164633Z
UID:10000268-1772654400-1772667000@www.liveinlou.com
SUMMARY:Karaoke at The Palm Room
DESCRIPTION:Come join us every Wednesday night at the Palm Room for a fun-filled evening of singing your heart out! Happy Hour specials from 5-9pm!
URL:https://www.liveinlou.com/event/karaoke-at-the-palm-room/2026-03-04/
LOCATION:The Palm Room\, 1821 W Jefferson Street\, Louisville\, Kentucky
CATEGORIES:Bourbon + More,Community Fun,Food
END:VEVENT
BEGIN:VEVENT
DTSTART;TZID=America/Kentucky/Louisville:20260307T140000
DTEND;TZID=America/Kentucky/Louisville:20260307T190000
DTSTAMP:20260421T225022
CREATED:20260204T154017Z
LAST-MODIFIED:20260204T154256Z
UID:10000305-1772892000-1772910000@www.liveinlou.com
SUMMARY:Tailspin Ale Fest
DESCRIPTION:Tailspin Ale Fest celebrates its 12th anniversary! This event offers a premier festival for craft brewers and craft beer enthusiasts in the Kentuckiana Region\, while raising funds and awareness to support the HOP Foundation. \nAll paid attendees will receive a souvenir-tasting glass. Food served by local food trucks will be available for purchase. The festival also features live music\, plane displays\, and the KY Heritage Section. VIP Attendees will receive an hour early entry\, one food voucher\, a gift\, plus a Tailspin Ale Fest souvenir cup. \n\nAdmission: General Admission: $70; VIP: $100
URL:https://www.liveinlou.com/event/231682/
LOCATION:Bowman Field\, 2700 Gast Boulevard\, Louisville\, KY\, 40205\, United States
CATEGORIES:Bourbon + More,Community Fun,Festivals,Food
END:VEVENT
BEGIN:VEVENT
DTSTART;TZID=America/Kentucky/Louisville:20260308T170000
DTEND;TZID=America/Kentucky/Louisville:20260308T190000
DTSTAMP:20260421T225022
CREATED:20260120T154738Z
LAST-MODIFIED:20260120T164940Z
UID:10000258-1772989200-1772996400@www.liveinlou.com
SUMMARY:Trivia at West Sixth Nulu!
DESCRIPTION:Grab a drink and join Trivia happening every Sunday at 5 pm. Get ready to put your knowledge to the test! They are also dog friendly!
URL:https://www.liveinlou.com/event/trivia-at-west-sixth-nulu/2026-03-08/
LOCATION:West Sixth Nulu\, 817 E Market Street Suite 101\, Louisville\, Kentucky
CATEGORIES:Bourbon + More,Community Fun,Trivia
END:VEVENT
BEGIN:VEVENT
DTSTART;TZID=America/Kentucky/Louisville:20260311T200000
DTEND;TZID=America/Kentucky/Louisville:20260311T233000
DTSTAMP:20260421T225022
CREATED:20260120T155755Z
LAST-MODIFIED:20260325T164633Z
UID:10000312-1773259200-1773271800@www.liveinlou.com
SUMMARY:Karaoke at The Palm Room
DESCRIPTION:Come join us every Wednesday night at the Palm Room for a fun-filled evening of singing your heart out! Happy Hour specials from 5-9pm!
URL:https://www.liveinlou.com/event/karaoke-at-the-palm-room/2026-03-11/
LOCATION:The Palm Room\, 1821 W Jefferson Street\, Louisville\, Kentucky
CATEGORIES:Bourbon + More,Community Fun,Food
END:VEVENT
BEGIN:VEVENT
DTSTART;TZID=America/Kentucky/Louisville:20260312T173000
DTEND;TZID=America/Kentucky/Louisville:20260312T200000
DTSTAMP:20260421T225022
CREATED:20260212T165716Z
LAST-MODIFIED:20260212T165809Z
UID:10000341-1773336600-1773345600@www.liveinlou.com
SUMMARY:Legends Series: Buffalo Trace
DESCRIPTION:The Legends Series is where bourbon and horse racing come together for the ultimate Kentucky mash-up! This iconic event at Kentucky Derby Museum is all about celebrating the spirit (and spirits) of Kentucky. \n\n\n\n\n\n\n\nEnjoy an evening of bourbon tasting as titans of the industry share insights that will enhance your knowledge and appreciation for the state’s most savored spirit. We’re excited to share that this year’s Legends event will feature a refreshed culinary experience. Guests will enjoy chef-inspired food stations and hearty appetizers\, followed by a bourbon tasting experience with curated small bites and snacks\, allowing you to mingle\, discover\, and savor throughout the evening. \nTickets for Legends Series includes: \n\nHors d’oeuvres\nComplimentary Bar (Beer\, wine\, & bourbon from host brand)\nWelcome Cocktail\n3-4 Bourbon Tastings led by the Legend and Bourbon Expert\nQ&A / Meet & Greet Opportunity with the Legend\n\n\n\n\n\n\n\n\n  \n\n\nClick here for tickets and more information: Legends Series | Kentucky Derby Museum
URL:https://www.liveinlou.com/event/legends-series-buffalo-trace/
LOCATION:Kentucky Derby Museum\, 704 Central Ave\, Louisville\, KY\, 40208\, United States
CATEGORIES:Bourbon + More,Community Fun,Food
END:VEVENT
BEGIN:VEVENT
DTSTART;TZID=America/Kentucky/Louisville:20260316T190000
DTEND;TZID=America/Kentucky/Louisville:20260316T210000
DTSTAMP:20260421T225022
CREATED:20260212T170429Z
LAST-MODIFIED:20260212T170429Z
UID:10000343-1773687600-1773694800@www.liveinlou.com
SUMMARY:Wine Education: Old World vs New World
DESCRIPTION:In the world of wine\, we have traditionally categorized wine as OLD WORLD (Europe) or the NEW WORLD (everywhere else) based on the style of wines being produced based on specific regional terroirs. \nIs this still a relevant way to think about the wine world? \nWe will take a deeper look at this simple matrix and begin to analyze the effects of both climate change and the new generations taking over productions which are having huge impacts on the styles and what is being produced. We will discover some incredible producers making their own path. \nTICKETS INCLUDE:\n4x Wines\nPresentation by John Grisanti \nFor tickets and more information: WINE EDUCATION: Old World Vs New World 2.0 – Nouvelle Bar & Bottle – Louisville\, KY | Tock | Tock
URL:https://www.liveinlou.com/event/wine-education-old-world-vs-new-world/
LOCATION:Nouvelle Bar & Bottle\, 214 S. Clay Street\, Louisville\, KY\, 40202\, United States
CATEGORIES:Bourbon + More,Community Fun
END:VEVENT
BEGIN:VEVENT
DTSTART;TZID=America/Kentucky/Louisville:20260318T173000
DTEND;TZID=America/Kentucky/Louisville:20260318T220000
DTSTAMP:20260421T225022
CREATED:20260227T193307Z
LAST-MODIFIED:20260227T194645Z
UID:10000353-1773855000-1773871200@www.liveinlou.com
SUMMARY:Disney Trivia Night at High Stakes Rooftop
DESCRIPTION:Get ready to put your Disney knowledge to the test high above the city at High Stakes Rooftop! \nJoin us on Wednesday\, March 18th for a magical night of trivia\, prizes\, and specialty drinks at the stunning rooftop venue located on the 6th floor of Tempo by Hilton. \nRegistration: 5:30 PM\nTrivia Begins: 6:00 PM \nTeam Size: 2–6 players \nGather your princes\, princesses\, villains\, and sidekicks for an unforgettable showdown of Disney knowledge! \nDrink Specials:\nEnjoy featured cocktails with Tito’s and Red Bull to keep your team energized and enchanted all night long. \nFrom classic animated favorites to modern magical moments\, this trivia night will challenge even the biggest Disney fans. \nCostumes and creative team names are highly encouraged! \nSpots fill fast — so bibbidi-bobbidi-book your team and we’ll see you on the rooftop!
URL:https://www.liveinlou.com/event/disney-trivia-night-at-high-stakes-rooftop/
LOCATION:High Stakes Rooftop\, 710 E Jefferson Street\, Louisville\, KY\, 40202\, United States
CATEGORIES:Bourbon + More,Community Fun,Trivia
ATTACH;FMTTYPE=image/png:https://www.liveinlou.com/wp-content/uploads/2026/02/Screenshot-2025-10-06-at-8.35.32-AM.png
END:VEVENT
BEGIN:VEVENT
DTSTART;TZID=America/Kentucky/Louisville:20260318T200000
DTEND;TZID=America/Kentucky/Louisville:20260318T233000
DTSTAMP:20260421T225022
CREATED:20260120T155755Z
LAST-MODIFIED:20260325T164633Z
UID:10000313-1773864000-1773876600@www.liveinlou.com
SUMMARY:Karaoke at The Palm Room
DESCRIPTION:Come join us every Wednesday night at the Palm Room for a fun-filled evening of singing your heart out! Happy Hour specials from 5-9pm!
URL:https://www.liveinlou.com/event/karaoke-at-the-palm-room/2026-03-18/
LOCATION:The Palm Room\, 1821 W Jefferson Street\, Louisville\, Kentucky
CATEGORIES:Bourbon + More,Community Fun,Food
END:VEVENT
BEGIN:VEVENT
DTSTART;TZID=America/Kentucky/Louisville:20260322T100000
DTEND;TZID=America/Kentucky/Louisville:20260322T133000
DTSTAMP:20260421T225022
CREATED:20260205T162252Z
LAST-MODIFIED:20260205T162316Z
UID:10000329-1774173600-1774186200@www.liveinlou.com
SUMMARY:Kentucky Derby Museum Hat Show
DESCRIPTION:Enjoy an exclusive showcase of the latest couture designs for both women and men\, featuring stunning creations from the Kentucky Derby Museum’s celebrated Featured Milliners. This is your one-stop destination to get inspired\, define your Derby look\, and shop — all in one place! \n\nAdmission: VIP Ticket – $125 Includes a Swag Bag & Front Row Seating! Premier Adult Ticket – $75.00 Premier Child Ticket – $40.00
URL:https://www.liveinlou.com/event/kentucky-derby-museum-hat-show/
LOCATION:Kentucky Derby Museum\, 704 Central Ave\, Louisville\, KY\, 40208\, United States
CATEGORIES:Bourbon + More,Community Fun
END:VEVENT
BEGIN:VEVENT
DTSTART;TZID=America/Kentucky/Louisville:20260325T200000
DTEND;TZID=America/Kentucky/Louisville:20260325T233000
DTSTAMP:20260421T225022
CREATED:20260120T155755Z
LAST-MODIFIED:20260325T164633Z
UID:10000314-1774468800-1774481400@www.liveinlou.com
SUMMARY:Karaoke at The Palm Room
DESCRIPTION:Come join us every Wednesday night at the Palm Room for a fun-filled evening of singing your heart out! Happy Hour specials from 5-9pm!
URL:https://www.liveinlou.com/event/karaoke-at-the-palm-room/2026-03-25/
LOCATION:The Palm Room\, 1821 W Jefferson Street\, Louisville\, Kentucky
CATEGORIES:Bourbon + More,Community Fun,Food
END:VEVENT
END:VCALENDAR