BEGIN:VCALENDAR
VERSION:2.0
PRODID:-//Live in Lou - ECPv6.15.20//NONSGML v1.0//EN
CALSCALE:GREGORIAN
METHOD:PUBLISH
X-WR-CALNAME:Live in Lou
X-ORIGINAL-URL:https://www.liveinlou.com
X-WR-CALDESC:Events for Live in Lou
REFRESH-INTERVAL;VALUE=DURATION:PT1H
X-Robots-Tag:noindex
X-PUBLISHED-TTL:PT1H
BEGIN:VTIMEZONE
TZID:America/Kentucky/Louisville
BEGIN:DAYLIGHT
TZOFFSETFROM:-0500
TZOFFSETTO:-0400
TZNAME:EDT
DTSTART:20250309T070000
END:DAYLIGHT
BEGIN:STANDARD
TZOFFSETFROM:-0400
TZOFFSETTO:-0500
TZNAME:EST
DTSTART:20251102T060000
END:STANDARD
BEGIN:DAYLIGHT
TZOFFSETFROM:-0500
TZOFFSETTO:-0400
TZNAME:EDT
DTSTART:20260308T070000
END:DAYLIGHT
BEGIN:STANDARD
TZOFFSETFROM:-0400
TZOFFSETTO:-0500
TZNAME:EST
DTSTART:20261101T060000
END:STANDARD
BEGIN:DAYLIGHT
TZOFFSETFROM:-0500
TZOFFSETTO:-0400
TZNAME:EDT
DTSTART:20270314T070000
END:DAYLIGHT
BEGIN:STANDARD
TZOFFSETFROM:-0400
TZOFFSETTO:-0500
TZNAME:EST
DTSTART:20271107T060000
END:STANDARD
END:VTIMEZONE
BEGIN:VEVENT
DTSTART;TZID=America/Kentucky/Louisville:20260506T200000
DTEND;TZID=America/Kentucky/Louisville:20260506T233000
DTSTAMP:20260420T015304
CREATED:20260120T155755Z
LAST-MODIFIED:20260325T164633Z
UID:10000416-1778097600-1778110200@www.liveinlou.com
SUMMARY:Karaoke at The Palm Room
DESCRIPTION:Come join us every Wednesday night at the Palm Room for a fun-filled evening of singing your heart out! Happy Hour specials from 5-9pm!
URL:https://www.liveinlou.com/event/karaoke-at-the-palm-room/2026-05-06/
LOCATION:The Palm Room\, 1821 W Jefferson Street\, Louisville\, Kentucky
CATEGORIES:Bourbon + More,Community Fun,Food
END:VEVENT
BEGIN:VEVENT
DTSTART;TZID=America/Kentucky/Louisville:20260508T200000
DTEND;TZID=America/Kentucky/Louisville:20260508T220000
DTSTAMP:20260420T015304
CREATED:20260416T143226Z
LAST-MODIFIED:20260416T143226Z
UID:10000454-1778270400-1778277600@www.liveinlou.com
SUMMARY:Summer Garden Jazz Series
DESCRIPTION:Come by every weekend (Friday & Saturday) in the summer to enjoy jazz in Nouvelle’s garden. You will catch some of Louisville’s finest musicians playing some super deep cuts while you sip on wine and cocktails. It is the grooviest way to enjoy the weekends in the city! \nDATES: Fridays & Saturdays: 8pm-10pm \nAdmission: Free
URL:https://www.liveinlou.com/event/summer-garden-jazz-series/
LOCATION:Nouvelle Bar & Bottle\, 214 S. Clay Street\, Louisville\, KY\, 40202\, United States
CATEGORIES:Bourbon + More,Community Fun,Music
END:VEVENT
END:VCALENDAR