BEGIN:VCALENDAR
VERSION:2.0
PRODID:-//Live in Lou - ECPv6.15.20//NONSGML v1.0//EN
CALSCALE:GREGORIAN
METHOD:PUBLISH
X-WR-CALNAME:Live in Lou
X-ORIGINAL-URL:https://www.liveinlou.com
X-WR-CALDESC:Events for Live in Lou
REFRESH-INTERVAL;VALUE=DURATION:PT1H
X-Robots-Tag:noindex
X-PUBLISHED-TTL:PT1H
BEGIN:VTIMEZONE
TZID:America/Kentucky/Louisville
BEGIN:DAYLIGHT
TZOFFSETFROM:-0500
TZOFFSETTO:-0400
TZNAME:EDT
DTSTART:20250309T070000
END:DAYLIGHT
BEGIN:STANDARD
TZOFFSETFROM:-0400
TZOFFSETTO:-0500
TZNAME:EST
DTSTART:20251102T060000
END:STANDARD
BEGIN:DAYLIGHT
TZOFFSETFROM:-0500
TZOFFSETTO:-0400
TZNAME:EDT
DTSTART:20260308T070000
END:DAYLIGHT
BEGIN:STANDARD
TZOFFSETFROM:-0400
TZOFFSETTO:-0500
TZNAME:EST
DTSTART:20261101T060000
END:STANDARD
BEGIN:DAYLIGHT
TZOFFSETFROM:-0500
TZOFFSETTO:-0400
TZNAME:EDT
DTSTART:20270314T070000
END:DAYLIGHT
BEGIN:STANDARD
TZOFFSETFROM:-0400
TZOFFSETTO:-0500
TZNAME:EST
DTSTART:20271107T060000
END:STANDARD
END:VTIMEZONE
BEGIN:VEVENT
DTSTART;TZID=America/Kentucky/Louisville:20260507T180000
DTEND;TZID=America/Kentucky/Louisville:20260507T220000
DTSTAMP:20260421T153211
CREATED:20260120T160401Z
LAST-MODIFIED:20260330T142044Z
UID:10000360-1778176800-1778191200@www.liveinlou.com
SUMMARY:Line Dancing at The Palm Room
DESCRIPTION:Are you interested to learn Line Dancing or just joining in on the fun? Line Dancing Thursdays are hosted by Instructor Monica Bizzle\, and they are free of charge!
URL:https://www.liveinlou.com/event/line-dancing-at-the-palm-room/2026-05-07/
LOCATION:The Palm Room\, 1821 W Jefferson Street\, Louisville\, Kentucky
CATEGORIES:Community Fun
END:VEVENT
BEGIN:VEVENT
DTSTART;TZID=America/Kentucky/Louisville:20260507T183000
DTEND;TZID=America/Kentucky/Louisville:20260507T203000
DTSTAMP:20260421T153211
CREATED:20260330T144743Z
LAST-MODIFIED:20260330T144758Z
UID:10000429-1778178600-1778185800@www.liveinlou.com
SUMMARY:Louisville Bats vs. Nashville Sounds
DESCRIPTION:Bring your furry friend out to Louisville Slugger Field for Dog Night #1 and enjoy Bats baseball with the Louisville Bats! It’s also Thrifty Thursday\, featuring $4 hot dogs\, $2 popcorn\, and 16oz sodas to keep your night ballpark-budget friendly! \n  \n\n\n\n\nTickets and more information: Louisville Bats | MiLB.com
URL:https://www.liveinlou.com/event/louisville-bats-vs-nashville-sounds/
LOCATION:Louisville Slugger Field\, 401 E Main Street\, Louisville\, Kentucky\, 40202
CATEGORIES:Community Fun,Family Fun,Sports
END:VEVENT
END:VCALENDAR