BEGIN:VCALENDAR
VERSION:2.0
PRODID:-//Live in Lou - ECPv6.15.20//NONSGML v1.0//EN
CALSCALE:GREGORIAN
METHOD:PUBLISH
X-WR-CALNAME:Live in Lou
X-ORIGINAL-URL:https://www.liveinlou.com
X-WR-CALDESC:Events for Live in Lou
REFRESH-INTERVAL;VALUE=DURATION:PT1H
X-Robots-Tag:noindex
X-PUBLISHED-TTL:PT1H
BEGIN:VTIMEZONE
TZID:America/Kentucky/Louisville
BEGIN:DAYLIGHT
TZOFFSETFROM:-0500
TZOFFSETTO:-0400
TZNAME:EDT
DTSTART:20250309T070000
END:DAYLIGHT
BEGIN:STANDARD
TZOFFSETFROM:-0400
TZOFFSETTO:-0500
TZNAME:EST
DTSTART:20251102T060000
END:STANDARD
BEGIN:DAYLIGHT
TZOFFSETFROM:-0500
TZOFFSETTO:-0400
TZNAME:EDT
DTSTART:20260308T070000
END:DAYLIGHT
BEGIN:STANDARD
TZOFFSETFROM:-0400
TZOFFSETTO:-0500
TZNAME:EST
DTSTART:20261101T060000
END:STANDARD
BEGIN:DAYLIGHT
TZOFFSETFROM:-0500
TZOFFSETTO:-0400
TZNAME:EDT
DTSTART:20270314T070000
END:DAYLIGHT
BEGIN:STANDARD
TZOFFSETFROM:-0400
TZOFFSETTO:-0500
TZNAME:EST
DTSTART:20271107T060000
END:STANDARD
END:VTIMEZONE
BEGIN:VEVENT
DTSTART;TZID=America/Kentucky/Louisville:20260513T200000
DTEND;TZID=America/Kentucky/Louisville:20260513T223000
DTSTAMP:20260421T170300
CREATED:20260413T142845Z
LAST-MODIFIED:20260413T143138Z
UID:10000437-1778702400-1778711400@www.liveinlou.com
SUMMARY:Earth\, Wind\, and Fire
DESCRIPTION:Legendary band Earth\, Wind & Fire brings its timeless sound to The Louisville Palace for an unforgettable night of music\, rhythm\, and celebration. One of the most influential and successful groups in music history\, Earth\, Wind & Fire are known for their genre‑defying blend of funk\, soul\, R&B\, pop\, jazz\, and disco\, paired with high‑energy performances and unmistakable style. \nWith a catalog packed full of iconic hits and dance‑floor classics\, the band continues to captivate audiences across generations. Fans can expect an electrifying live show filled with joyful grooves\, soaring vocals\, and musicianship that has earned Earth\, Wind & Fire enduring acclaim and multiple Grammy Awards. \nFor tickets and more information: Earth\, Wind & Fire Tour Dates – Earth Wind & Fire
URL:https://www.liveinlou.com/event/earth-wind-and-fire/
LOCATION:The Louisville Palace\, 625 South 4th Street\, Louisville\, KY\, 40202\, United States
CATEGORIES:Community Fun,Music
END:VEVENT
BEGIN:VEVENT
DTSTART;TZID=America/Kentucky/Louisville:20260514T180000
DTEND;TZID=America/Kentucky/Louisville:20260514T220000
DTSTAMP:20260421T170300
CREATED:20260120T160401Z
LAST-MODIFIED:20260330T142044Z
UID:10000423-1778781600-1778796000@www.liveinlou.com
SUMMARY:Line Dancing at The Palm Room
DESCRIPTION:Are you interested to learn Line Dancing or just joining in on the fun? Line Dancing Thursdays are hosted by Instructor Monica Bizzle\, and they are free of charge!
URL:https://www.liveinlou.com/event/line-dancing-at-the-palm-room/2026-05-14/
LOCATION:The Palm Room\, 1821 W Jefferson Street\, Louisville\, Kentucky
CATEGORIES:Community Fun
END:VEVENT
BEGIN:VEVENT
DTSTART;VALUE=DATE:20260515
DTEND;VALUE=DATE:20260518
DTSTAMP:20260421T170300
CREATED:20260413T143019Z
LAST-MODIFIED:20260413T143019Z
UID:10000438-1778803200-1779062399@www.liveinlou.com
SUMMARY:Ringling Bros. and Barnum & Bailey Presents The Greatest Show On Earth
DESCRIPTION:Step inside The Greatest Party On Earth – Ringling Bros. and Barnum & Bailey® Presents The Greatest Show On Earth®! Reimagined for a new generation\, this larger-than-life production bursts into Louisville\, playing at the KFC Yum! Center from May 15-17\, 2026\, with new acts\, jaw-dropping talent\, and the high-flying excitement that has defined The Greatest Show On Earth® for more than 150 years. \nThe Greatest Show On Earth® is back with a high-energy\, music-driven experience with bold circus performances\, unforgettable characters\, and a nonstop party vibe. This new production moves at the speed of today’s world: fast-paced\, dynamic\, and full of energy – bringing audiences closer than ever to the talent and heart that make The Greatest Show On Earth® unforgettable. It’s an adrenaline-packed celebration of human talent\, where world-class athletes and performers from around the globe showcase extraordinary\, jaw-dropping skills that make Children Of All Ages feel like they’re part of The Greatest Party On Earth! \nFor tickets and more information: Ringling Bros. and Barnum & Bailey Presents The Greatest Show On Earth | KFC Yum! Center
URL:https://www.liveinlou.com/event/ringling-bros-and-barnum-bailey-presents-the-greatest-show-on-earth/
LOCATION:KY
CATEGORIES:Community Fun,Family Fun,Performing Arts
END:VEVENT
BEGIN:VEVENT
DTSTART;TZID=America/Kentucky/Louisville:20260515T173000
DTEND;TZID=America/Kentucky/Louisville:20260515T233000
DTSTAMP:20260421T170300
CREATED:20260416T145012Z
LAST-MODIFIED:20260416T145012Z
UID:10000455-1778866200-1778887800@www.liveinlou.com
SUMMARY:2026 Night at the Frazier
DESCRIPTION:Night at the Frazier returns May 15\, 2026\, as a star-spangled gala celebrating Red\, White & Bluegrass in honor of America’s 250th anniversary! This signature annual event invites our community to gather for an unforgettable evening at the Frazier Kentucky History Museum to celebrate our state’s culture and heritage while supporting the museum’s mission to inspire\, engage\, and educate by connecting the past with the present to shape the future. \nThe evening brings together supporters\, partners\, and friends of the museum for a dynamic experience that reflects the spirit of Kentucky through thoughtfully curated food and cocktails\, live entertainment\, immersive gallery experiences\, and opportunities to engage with the museum’s work in education\, preservation\, and cultural connection. \nAttire is semi-formal. The theme is “Red\, White\, & Bluegrass”—so think stars and stripes\, bold reds and blues\, crisp whites\, and a little sparkle for good measure! \nFor tickets and more information: Night at the Frazier Gala | Kentucky History Museum
URL:https://www.liveinlou.com/event/2026-night-at-the-frazier/
LOCATION:Frazier History Museum\, 829 W Main Street\, Louisville\, KY\, 40202\, United States
CATEGORIES:Community Fun
END:VEVENT
BEGIN:VEVENT
DTSTART;TZID=America/Kentucky/Louisville:20260516T113000
DTEND;TZID=America/Kentucky/Louisville:20260516T190000
DTSTAMP:20260421T170300
CREATED:20260416T151006Z
LAST-MODIFIED:20260416T151006Z
UID:10000456-1778931000-1778958000@www.liveinlou.com
SUMMARY:Forest Fest
DESCRIPTION:Join us on 5/16 at Forest Fest\, our annual bluegrass and americana music festival! Enjoy a family-friendly day of live music\, workshops\, nature play\, and local makers in the middle of beautiful Jefferson Memorial Forest.
URL:https://www.liveinlou.com/event/forest-fest/
LOCATION:Jefferson Memorial Forest\, 12304 Holsclaw Hill\, Louisville\, KY\, 40118\, United States
CATEGORIES:Community Fun,Family Fun,Nature
END:VEVENT
BEGIN:VEVENT
DTSTART;TZID=America/Kentucky/Louisville:20260516T120000
DTEND;TZID=America/Kentucky/Louisville:20260516T143000
DTSTAMP:20260421T170300
CREATED:20260413T143430Z
LAST-MODIFIED:20260413T143430Z
UID:10000439-1778932800-1778941800@www.liveinlou.com
SUMMARY:Louisville Kings vs DC Defenders
DESCRIPTION:The Louisville Kings will call Lynn Family Stadium home field this spring. As Louisville’s premier destination for pro-soccer and entertainment events\, this stadium offers the ideal atmosphere for high energy\, entertainment and intimate fan feel that will make every game day unforgettable! Close to downtown\, this convenient location allows fans from across the region the opportunity to enjoy high quality pro-football from amazing views around the stadium\, a variety of amenities and luxury experiences fit for our royal kingdom. \nFor tickets and more information: Louisville Kings Schedule 2026 – The UFL
URL:https://www.liveinlou.com/event/louisville-kings-vs-dc-defenders/
LOCATION:Lynn Family Stadium
CATEGORIES:Community Fun,Family Fun,Sports
END:VEVENT
END:VCALENDAR