BEGIN:VCALENDAR
VERSION:2.0
PRODID:-//Live in Lou - ECPv6.15.20//NONSGML v1.0//EN
CALSCALE:GREGORIAN
METHOD:PUBLISH
X-WR-CALNAME:Live in Lou
X-ORIGINAL-URL:https://www.liveinlou.com
X-WR-CALDESC:Events for Live in Lou
REFRESH-INTERVAL;VALUE=DURATION:PT1H
X-Robots-Tag:noindex
X-PUBLISHED-TTL:PT1H
BEGIN:VTIMEZONE
TZID:America/Kentucky/Louisville
BEGIN:DAYLIGHT
TZOFFSETFROM:-0500
TZOFFSETTO:-0400
TZNAME:EDT
DTSTART:20250309T070000
END:DAYLIGHT
BEGIN:STANDARD
TZOFFSETFROM:-0400
TZOFFSETTO:-0500
TZNAME:EST
DTSTART:20251102T060000
END:STANDARD
BEGIN:DAYLIGHT
TZOFFSETFROM:-0500
TZOFFSETTO:-0400
TZNAME:EDT
DTSTART:20260308T070000
END:DAYLIGHT
BEGIN:STANDARD
TZOFFSETFROM:-0400
TZOFFSETTO:-0500
TZNAME:EST
DTSTART:20261101T060000
END:STANDARD
BEGIN:DAYLIGHT
TZOFFSETFROM:-0500
TZOFFSETTO:-0400
TZNAME:EDT
DTSTART:20270314T070000
END:DAYLIGHT
BEGIN:STANDARD
TZOFFSETFROM:-0400
TZOFFSETTO:-0500
TZNAME:EST
DTSTART:20271107T060000
END:STANDARD
END:VTIMEZONE
BEGIN:VEVENT
DTSTART;TZID=America/Kentucky/Louisville:20260301T140000
DTEND;TZID=America/Kentucky/Louisville:20260301T160000
DTSTAMP:20260423T105628
CREATED:20260204T151959Z
LAST-MODIFIED:20260204T151959Z
UID:10000299-1772373600-1772380800@www.liveinlou.com
SUMMARY:Aflora: The Artist Talk
DESCRIPTION:Join us for Aflora: The Artist Talk on Sunday\, March 1\, at the Frazier Kentucky History Museum. In partnership with La Casita Center\, the Aflora exhibition showcases vibrant\, emotional\, and thought-provoking artwork from Latinx artists. As the exhibition ends\, join us to tour Aflora and meet the individual artists whose work reflects the times and circumstances in which we are living.
URL:https://www.liveinlou.com/event/aflora-the-artist-talk/
LOCATION:Frazier History Museum\, 829 W Main Street\, Louisville\, KY\, 40202\, United States
CATEGORIES:Community Fun,Crafts
END:VEVENT
END:VCALENDAR