BEGIN:VCALENDAR
VERSION:2.0
PRODID:-//Live in Lou - ECPv6.15.20//NONSGML v1.0//EN
CALSCALE:GREGORIAN
METHOD:PUBLISH
X-WR-CALNAME:Live in Lou
X-ORIGINAL-URL:https://www.liveinlou.com
X-WR-CALDESC:Events for Live in Lou
REFRESH-INTERVAL;VALUE=DURATION:PT1H
X-Robots-Tag:noindex
X-PUBLISHED-TTL:PT1H
BEGIN:VTIMEZONE
TZID:America/Kentucky/Louisville
BEGIN:DAYLIGHT
TZOFFSETFROM:-0500
TZOFFSETTO:-0400
TZNAME:EDT
DTSTART:20250309T070000
END:DAYLIGHT
BEGIN:STANDARD
TZOFFSETFROM:-0400
TZOFFSETTO:-0500
TZNAME:EST
DTSTART:20251102T060000
END:STANDARD
BEGIN:DAYLIGHT
TZOFFSETFROM:-0500
TZOFFSETTO:-0400
TZNAME:EDT
DTSTART:20260308T070000
END:DAYLIGHT
BEGIN:STANDARD
TZOFFSETFROM:-0400
TZOFFSETTO:-0500
TZNAME:EST
DTSTART:20261101T060000
END:STANDARD
BEGIN:DAYLIGHT
TZOFFSETFROM:-0500
TZOFFSETTO:-0400
TZNAME:EDT
DTSTART:20270314T070000
END:DAYLIGHT
BEGIN:STANDARD
TZOFFSETFROM:-0400
TZOFFSETTO:-0500
TZNAME:EST
DTSTART:20271107T060000
END:STANDARD
END:VTIMEZONE
BEGIN:VEVENT
DTSTART;TZID=America/Kentucky/Louisville:20260523T160000
DTEND;TZID=America/Kentucky/Louisville:20260523T183000
DTSTAMP:20260420T031650
CREATED:20260413T145455Z
LAST-MODIFIED:20260413T145455Z
UID:10000443-1779552000-1779561000@www.liveinlou.com
SUMMARY:Racing Louisville FC vs NC Courage
DESCRIPTION:Racing Louisville takes on NC Courage at 4PM at Lynn Family Stadium. \nRacing Louisville FC is our city’s top-tier professional sports team playing in the National Women’s Soccer League. Racing both features members of the U.S. Women’s National Team and faces off against the icons of women’s soccer including Trinity Rodman\, Rose Lavelle and Mallory Swanson. Join us at Lynn Family Stadium this year and cheer on Racing in the world’s toughest women’s soccer league.
URL:https://www.liveinlou.com/event/racing-louisville-fc-vs-nc-courage/
LOCATION:Lynn Family Stadium
CATEGORIES:Community Fun,Crafts,Sports
END:VEVENT
END:VCALENDAR