BEGIN:VCALENDAR
VERSION:2.0
PRODID:-//Live in Lou - ECPv6.15.20//NONSGML v1.0//EN
CALSCALE:GREGORIAN
METHOD:PUBLISH
X-ORIGINAL-URL:https://www.liveinlou.com
X-WR-CALDESC:Events for Live in Lou
REFRESH-INTERVAL;VALUE=DURATION:PT1H
X-Robots-Tag:noindex
X-PUBLISHED-TTL:PT1H
BEGIN:VTIMEZONE
TZID:America/Kentucky/Louisville
BEGIN:DAYLIGHT
TZOFFSETFROM:-0500
TZOFFSETTO:-0400
TZNAME:EDT
DTSTART:20250309T070000
END:DAYLIGHT
BEGIN:STANDARD
TZOFFSETFROM:-0400
TZOFFSETTO:-0500
TZNAME:EST
DTSTART:20251102T060000
END:STANDARD
BEGIN:DAYLIGHT
TZOFFSETFROM:-0500
TZOFFSETTO:-0400
TZNAME:EDT
DTSTART:20260308T070000
END:DAYLIGHT
BEGIN:STANDARD
TZOFFSETFROM:-0400
TZOFFSETTO:-0500
TZNAME:EST
DTSTART:20261101T060000
END:STANDARD
BEGIN:DAYLIGHT
TZOFFSETFROM:-0500
TZOFFSETTO:-0400
TZNAME:EDT
DTSTART:20270314T070000
END:DAYLIGHT
BEGIN:STANDARD
TZOFFSETFROM:-0400
TZOFFSETTO:-0500
TZNAME:EST
DTSTART:20271107T060000
END:STANDARD
END:VTIMEZONE
BEGIN:VEVENT
DTSTART;TZID=America/Kentucky/Louisville:20260213T000000
DTEND;TZID=America/Kentucky/Louisville:20260221T000000
DTSTAMP:20260423T172444
CREATED:20251007T170415Z
LAST-MODIFIED:20251008T133625Z
UID:10000053-1770940800-1771632000@www.liveinlou.com
SUMMARY:Young Playwrights Festival
DESCRIPTION:A Walden Conservatory Production \nEnjoy an evening of bold storytelling and fresh perspectives! The Young Playwrights Festival will feature 7 short plays written and performed by our talented Walden Conservatory students. \nPerformances\nFebruary 13\, 14\, 19 & 20 at 7PM\nFebruary 21 at 2PM & 7PM \nAt Walden Theatre on StageOne’s Campus
URL:https://www.liveinlou.com/event/young-playwrights-festival/
LOCATION:KY
CATEGORIES:Community Fun,Family Fun,Festivals,Performing Arts
ATTACH;FMTTYPE=image/jpeg:https://www.liveinlou.com/wp-content/uploads/2025/10/SO-24x36-Posters_LR_YPF-2-600x8901-1.jpg
END:VEVENT
BEGIN:VEVENT
DTSTART;TZID=America/Kentucky/Louisville:20260220T100000
DTEND;TZID=America/Kentucky/Louisville:20260220T130000
DTSTAMP:20260423T172444
CREATED:20260115T172818Z
LAST-MODIFIED:20260115T172818Z
UID:10000238-1771581600-1771592400@www.liveinlou.com
SUMMARY:Jeffersonville Public Library Bookstore
DESCRIPTION:The bookstore is located at the lower level of the library\, accessible by the south lobby stairs or elevator. We are open every 2nd and 4th Fridays and Saturdays of each month from 10am – 1pm. The proceeds from the bookstore go towards the library!
URL:https://www.liveinlou.com/event/jeffersonville-public-library-bookstore/2026-02-20/
LOCATION:Jeffersonville Township Public Library\, 211 E. Court Ave.\, Jeffersonville\, Indiana
CATEGORIES:Community Fun,Family Fun
END:VEVENT
END:VCALENDAR