BEGIN:VCALENDAR
VERSION:2.0
PRODID:-//Live in Lou - ECPv6.15.20//NONSGML v1.0//EN
CALSCALE:GREGORIAN
METHOD:PUBLISH
X-ORIGINAL-URL:https://www.liveinlou.com
X-WR-CALDESC:Events for Live in Lou
REFRESH-INTERVAL;VALUE=DURATION:PT1H
X-Robots-Tag:noindex
X-PUBLISHED-TTL:PT1H
BEGIN:VTIMEZONE
TZID:America/Kentucky/Louisville
BEGIN:DAYLIGHT
TZOFFSETFROM:-0500
TZOFFSETTO:-0400
TZNAME:EDT
DTSTART:20250309T070000
END:DAYLIGHT
BEGIN:STANDARD
TZOFFSETFROM:-0400
TZOFFSETTO:-0500
TZNAME:EST
DTSTART:20251102T060000
END:STANDARD
BEGIN:DAYLIGHT
TZOFFSETFROM:-0500
TZOFFSETTO:-0400
TZNAME:EDT
DTSTART:20260308T070000
END:DAYLIGHT
BEGIN:STANDARD
TZOFFSETFROM:-0400
TZOFFSETTO:-0500
TZNAME:EST
DTSTART:20261101T060000
END:STANDARD
BEGIN:DAYLIGHT
TZOFFSETFROM:-0500
TZOFFSETTO:-0400
TZNAME:EDT
DTSTART:20270314T070000
END:DAYLIGHT
BEGIN:STANDARD
TZOFFSETFROM:-0400
TZOFFSETTO:-0500
TZNAME:EST
DTSTART:20271107T060000
END:STANDARD
END:VTIMEZONE
BEGIN:VEVENT
DTSTART;VALUE=DATE:20260423
DTEND;VALUE=DATE:20260425
DTSTAMP:20260421T110748
CREATED:20260325T153000Z
LAST-MODIFIED:20260325T153000Z
UID:10000403-1776902400-1777075199@www.liveinlou.com
SUMMARY:L&N Federal Credit Union Great Balloon Glow
DESCRIPTION:One of the most anticipated events of balloon race weekend is the Kentucky Derby Festival Great Balloon Glow. This year\, there will be TWO opportunities to see the Balloon Glow\, as it returns to Kroger’s Fest-a-Ville on the Waterfront on Thursday\, April 23 and Friday\, April 24. \nThursday\, April 23\, 2026\n7:00 PM: Parade of Balloons\n8:00 PM: Balloon Staging\n9:00 PM: Glow Begins \nThe Great Balloon Glow is a companion event to the race\, the balloons are on the field\, but do not ascend. As the pilots fire their burners\, watch as the balloons glow against the blackness of the night sky\, synchronized to a special musical score. \nYou are invited to walk around the field and talk to the pilots as they have more time to show off their balloons than on race morning. \nAdmission will be free with your 2026 Pegasus Pin®. \nFor more information: BalloonFest: Thursday Glow | KDF Discover
URL:https://www.liveinlou.com/event/ln-federal-credit-union-great-balloon-glow/
LOCATION:Waterfront Park Big Four Bridge Lawn\, 1101 River Road\, Louisville\, KY\, 40202\, United States
CATEGORIES:Community Fun,Family Fun,Festivals
END:VEVENT
END:VCALENDAR