BEGIN:VCALENDAR
VERSION:2.0
PRODID:-//Live in Lou - ECPv6.15.20//NONSGML v1.0//EN
CALSCALE:GREGORIAN
METHOD:PUBLISH
X-ORIGINAL-URL:https://www.liveinlou.com
X-WR-CALDESC:Events for Live in Lou
REFRESH-INTERVAL;VALUE=DURATION:PT1H
X-Robots-Tag:noindex
X-PUBLISHED-TTL:PT1H
BEGIN:VTIMEZONE
TZID:America/Kentucky/Louisville
BEGIN:DAYLIGHT
TZOFFSETFROM:-0500
TZOFFSETTO:-0400
TZNAME:EDT
DTSTART:20240310T070000
END:DAYLIGHT
BEGIN:STANDARD
TZOFFSETFROM:-0400
TZOFFSETTO:-0500
TZNAME:EST
DTSTART:20241103T060000
END:STANDARD
BEGIN:DAYLIGHT
TZOFFSETFROM:-0500
TZOFFSETTO:-0400
TZNAME:EDT
DTSTART:20250309T070000
END:DAYLIGHT
BEGIN:STANDARD
TZOFFSETFROM:-0400
TZOFFSETTO:-0500
TZNAME:EST
DTSTART:20251102T060000
END:STANDARD
BEGIN:DAYLIGHT
TZOFFSETFROM:-0500
TZOFFSETTO:-0400
TZNAME:EDT
DTSTART:20260308T070000
END:DAYLIGHT
BEGIN:STANDARD
TZOFFSETFROM:-0400
TZOFFSETTO:-0500
TZNAME:EST
DTSTART:20261101T060000
END:STANDARD
BEGIN:DAYLIGHT
TZOFFSETFROM:-0500
TZOFFSETTO:-0400
TZNAME:EDT
DTSTART:20270314T070000
END:DAYLIGHT
BEGIN:STANDARD
TZOFFSETFROM:-0400
TZOFFSETTO:-0500
TZNAME:EST
DTSTART:20271107T060000
END:STANDARD
END:VTIMEZONE
BEGIN:VEVENT
DTSTART;TZID=America/Kentucky/Louisville:20260322T120000
DTEND;TZID=America/Kentucky/Louisville:20260322T190000
DTSTAMP:20260424T153743
CREATED:20260205T162439Z
LAST-MODIFIED:20260205T162439Z
UID:10000330-1774180800-1774206000@www.liveinlou.com
SUMMARY:Wings & Votes
DESCRIPTION:Flavor has a Voice: When Louisville Votes\, Louisville Wins. \nWings & Votes brings together two things people show up for: incredible chicken wings and having your voice heard. Spend your Sunday sampling wings from 20 local restaurants\, cast your vote for the best wings in town\, and enjoy a laid-back afternoon supporting the local food scene. \nWhile you’re here\, you’ll also have the opportunity to register to vote on-site. Whether you’re new to voting or just need to get registered\, it’s a simple way to take care of it while enjoying great food and good company. \nWhat to Expect:\n• Chicken wing samples from 20 local restaurants\n• Vote for your favorite wings\n• On-site voter registration assistance\n• A fun\, casual Sunday event with a purpose \nCome hungry. Leave opinionated.
URL:https://www.liveinlou.com/event/wings-votes/
LOCATION:Fourth Street Live!\, 411 S Fourth Street\, Louisville\, KY\, 40202\, United States
CATEGORIES:Community Fun,Festivals,Food
END:VEVENT
BEGIN:VEVENT
DTSTART;TZID=America/Kentucky/Louisville:20260318T200000
DTEND;TZID=America/Kentucky/Louisville:20260318T233000
DTSTAMP:20260424T153743
CREATED:20260120T155755Z
LAST-MODIFIED:20260325T164633Z
UID:10000313-1773864000-1773876600@www.liveinlou.com
SUMMARY:Karaoke at The Palm Room
DESCRIPTION:Come join us every Wednesday night at the Palm Room for a fun-filled evening of singing your heart out! Happy Hour specials from 5-9pm!
URL:https://www.liveinlou.com/event/karaoke-at-the-palm-room/2026-03-18/
LOCATION:The Palm Room\, 1821 W Jefferson Street\, Louisville\, Kentucky
CATEGORIES:Bourbon + More,Community Fun,Food
END:VEVENT
BEGIN:VEVENT
DTSTART;TZID=America/Kentucky/Louisville:20260312T173000
DTEND;TZID=America/Kentucky/Louisville:20260312T200000
DTSTAMP:20260424T153743
CREATED:20260212T165716Z
LAST-MODIFIED:20260212T165809Z
UID:10000341-1773336600-1773345600@www.liveinlou.com
SUMMARY:Legends Series: Buffalo Trace
DESCRIPTION:The Legends Series is where bourbon and horse racing come together for the ultimate Kentucky mash-up! This iconic event at Kentucky Derby Museum is all about celebrating the spirit (and spirits) of Kentucky. \n\n\n\n\n\n\n\nEnjoy an evening of bourbon tasting as titans of the industry share insights that will enhance your knowledge and appreciation for the state’s most savored spirit. We’re excited to share that this year’s Legends event will feature a refreshed culinary experience. Guests will enjoy chef-inspired food stations and hearty appetizers\, followed by a bourbon tasting experience with curated small bites and snacks\, allowing you to mingle\, discover\, and savor throughout the evening. \nTickets for Legends Series includes: \n\nHors d’oeuvres\nComplimentary Bar (Beer\, wine\, & bourbon from host brand)\nWelcome Cocktail\n3-4 Bourbon Tastings led by the Legend and Bourbon Expert\nQ&A / Meet & Greet Opportunity with the Legend\n\n\n\n\n\n\n\n\n  \n\n\nClick here for tickets and more information: Legends Series | Kentucky Derby Museum
URL:https://www.liveinlou.com/event/legends-series-buffalo-trace/
LOCATION:Kentucky Derby Museum\, 704 Central Ave\, Louisville\, KY\, 40208\, United States
CATEGORIES:Bourbon + More,Community Fun,Food
END:VEVENT
BEGIN:VEVENT
DTSTART;TZID=America/Kentucky/Louisville:20260311T200000
DTEND;TZID=America/Kentucky/Louisville:20260311T233000
DTSTAMP:20260424T153743
CREATED:20260120T155755Z
LAST-MODIFIED:20260325T164633Z
UID:10000312-1773259200-1773271800@www.liveinlou.com
SUMMARY:Karaoke at The Palm Room
DESCRIPTION:Come join us every Wednesday night at the Palm Room for a fun-filled evening of singing your heart out! Happy Hour specials from 5-9pm!
URL:https://www.liveinlou.com/event/karaoke-at-the-palm-room/2026-03-11/
LOCATION:The Palm Room\, 1821 W Jefferson Street\, Louisville\, Kentucky
CATEGORIES:Bourbon + More,Community Fun,Food
END:VEVENT
BEGIN:VEVENT
DTSTART;TZID=America/Kentucky/Louisville:20260307T140000
DTEND;TZID=America/Kentucky/Louisville:20260307T190000
DTSTAMP:20260424T153743
CREATED:20260204T154017Z
LAST-MODIFIED:20260204T154256Z
UID:10000305-1772892000-1772910000@www.liveinlou.com
SUMMARY:Tailspin Ale Fest
DESCRIPTION:Tailspin Ale Fest celebrates its 12th anniversary! This event offers a premier festival for craft brewers and craft beer enthusiasts in the Kentuckiana Region\, while raising funds and awareness to support the HOP Foundation. \nAll paid attendees will receive a souvenir-tasting glass. Food served by local food trucks will be available for purchase. The festival also features live music\, plane displays\, and the KY Heritage Section. VIP Attendees will receive an hour early entry\, one food voucher\, a gift\, plus a Tailspin Ale Fest souvenir cup. \n\nAdmission: General Admission: $70; VIP: $100
URL:https://www.liveinlou.com/event/231682/
LOCATION:Bowman Field\, 2700 Gast Boulevard\, Louisville\, KY\, 40205\, United States
CATEGORIES:Bourbon + More,Community Fun,Festivals,Food
END:VEVENT
BEGIN:VEVENT
DTSTART;TZID=America/Kentucky/Louisville:20260307T110000
DTEND;TZID=America/Kentucky/Louisville:20260307T160000
DTSTAMP:20260424T153743
CREATED:20260204T153234Z
LAST-MODIFIED:20260204T153234Z
UID:10000302-1772881200-1772899200@www.liveinlou.com
SUMMARY:Louisville Korean Festival & Showcase
DESCRIPTION:This festival brings together the local Korean community and the broader Louisville region for a day of cultural pride\, learning\, and fun. From live performances to cultural experiences\, there’s something for everyone!
URL:https://www.liveinlou.com/event/louisville-korean-festival-showcase/
LOCATION:Kentucky Exposition Center\, 937 Phillips Lane\, Louisville\, Kentucky\, 40209
CATEGORIES:Community Fun,Family Fun,Festivals,Food,Music
END:VEVENT
BEGIN:VEVENT
DTSTART;TZID=America/Kentucky/Louisville:20260304T200000
DTEND;TZID=America/Kentucky/Louisville:20260304T233000
DTSTAMP:20260424T153743
CREATED:20260120T155755Z
LAST-MODIFIED:20260325T164633Z
UID:10000268-1772654400-1772667000@www.liveinlou.com
SUMMARY:Karaoke at The Palm Room
DESCRIPTION:Come join us every Wednesday night at the Palm Room for a fun-filled evening of singing your heart out! Happy Hour specials from 5-9pm!
URL:https://www.liveinlou.com/event/karaoke-at-the-palm-room/2026-03-04/
LOCATION:The Palm Room\, 1821 W Jefferson Street\, Louisville\, Kentucky
CATEGORIES:Bourbon + More,Community Fun,Food
END:VEVENT
BEGIN:VEVENT
DTSTART;TZID=America/Kentucky/Louisville:20260228T000000
DTEND;TZID=America/Kentucky/Louisville:20260228T000000
DTSTAMP:20260424T153743
CREATED:20251209T205741Z
LAST-MODIFIED:20260105T160709Z
UID:10000203-1772236800-1772236800@www.liveinlou.com
SUMMARY:The 13th Gravy Cup
DESCRIPTION:On February 28th\, 2026\, from 9 am – 12 pm\, Louisville Slugger Field will host the 13th Annual Gravy Cup\, the world’s largest biscuits and gravy competition. More than 30 professional chefs and home cooks will showcase their best gravy recipes for a panel of professional and celebrity judges and over 850 attendees. \nCompetitors will be divided into three categories: Traditional (pork sausage roux)\, Non-Traditional (brown\, red-eye\, chorizo) and Vegetarian/Vegan. Attendees will also vote for their favorite recipe and the winner will be awarded the People’s Choice Award! \nIn addition to scrumptious southern comfort food\, the morning will offer exclusive merchandise\, live music\, a selfie station\, and a cash bar. \nYounger gravy lovers will love the children’s area\, including games\, mascots\, and face painting. \nEntry for the VIP Experience begins at 8:30 am with early access to all gravies. VIP ticket-holders will also enjoy a tabled VIP area with a full breakfast buffet\, drink tickets\, and complimentary Gravy Cup merchandise. \nDon’t miss it! All proceeds benefit Boys & Girls Haven \nGet Tickets Here
URL:https://www.liveinlou.com/event/the-13th-gravy-cup/
LOCATION:KY
CATEGORIES:Community Fun,Crafts,Family Fun,Food,Games,Music
ATTACH;FMTTYPE=image/jpeg:https://www.liveinlou.com/wp-content/uploads/2025/12/DSCF7330.jpg
END:VEVENT
BEGIN:VEVENT
DTSTART;TZID=America/Kentucky/Louisville:20260225T200000
DTEND;TZID=America/Kentucky/Louisville:20260225T233000
DTSTAMP:20260424T153743
CREATED:20260120T155755Z
LAST-MODIFIED:20260325T164633Z
UID:10000267-1772049600-1772062200@www.liveinlou.com
SUMMARY:Karaoke at The Palm Room
DESCRIPTION:Come join us every Wednesday night at the Palm Room for a fun-filled evening of singing your heart out! Happy Hour specials from 5-9pm!
URL:https://www.liveinlou.com/event/karaoke-at-the-palm-room/2026-02-25/
LOCATION:The Palm Room\, 1821 W Jefferson Street\, Louisville\, Kentucky
CATEGORIES:Bourbon + More,Community Fun,Food
END:VEVENT
BEGIN:VEVENT
DTSTART;VALUE=DATE:20260225
DTEND;VALUE=DATE:20260301
DTSTAMP:20260424T153743
CREATED:20260129T150942Z
LAST-MODIFIED:20260129T150942Z
UID:10000296-1771977600-1772323199@www.liveinlou.com
SUMMARY:Bourbon Classic
DESCRIPTION:Experience the very best in bourbon\, culinary arts\, and cocktails at this annual event. Through exclusive tastings\, interactive workshops\, and unique experiences\, guests explore the depth of Kentucky’s bourbon heritage while connecting with distillers\, chefs\, and master mixologists who define bourbon excellence.  \nTimes and ticket prices vary by event. Find more information here: bourbonclassic.com
URL:https://www.liveinlou.com/event/bourbon-classic/
LOCATION:KY
CATEGORIES:Bourbon + More,Food
END:VEVENT
BEGIN:VEVENT
DTSTART;TZID=America/Kentucky/Louisville:20260219T183000
DTEND;TZID=America/Kentucky/Louisville:20260219T213000
DTSTAMP:20260424T153743
CREATED:20260129T145607Z
LAST-MODIFIED:20260129T145717Z
UID:10000293-1771525800-1771536600@www.liveinlou.com
SUMMARY:Bourbon Between the Bridges
DESCRIPTION:Join us at Bourbon Between the Bridges\, presented by Joe’s Crab Shack and inspired by the rich heritage of Woodford Reserve. Savor breathtaking views and a four-course\, bourbon-paired tasting menu experience crafted by Chef Chris V’Soske. \nFind tickets and more information here: https://www.bourboncountry.com/events/bourbon-between-the-bridges/
URL:https://www.liveinlou.com/event/bourbon-between-the-bridges/
LOCATION:Joe’s Crab Shack\, 131 W River Rd\, Louisville\, 40202\, United States
CATEGORIES:Bourbon + More,Food
END:VEVENT
BEGIN:VEVENT
DTSTART;TZID=America/Kentucky/Louisville:20260218T200000
DTEND;TZID=America/Kentucky/Louisville:20260218T233000
DTSTAMP:20260424T153743
CREATED:20260120T155755Z
LAST-MODIFIED:20260325T164633Z
UID:10000266-1771444800-1771457400@www.liveinlou.com
SUMMARY:Karaoke at The Palm Room
DESCRIPTION:Come join us every Wednesday night at the Palm Room for a fun-filled evening of singing your heart out! Happy Hour specials from 5-9pm!
URL:https://www.liveinlou.com/event/karaoke-at-the-palm-room/2026-02-18/
LOCATION:The Palm Room\, 1821 W Jefferson Street\, Louisville\, Kentucky
CATEGORIES:Bourbon + More,Community Fun,Food
END:VEVENT
BEGIN:VEVENT
DTSTART;TZID=America/Kentucky/Louisville:20260217T193000
DTEND;TZID=America/Kentucky/Louisville:20260217T223000
DTSTAMP:20260424T153743
CREATED:20260212T163715Z
LAST-MODIFIED:20260212T163715Z
UID:10000337-1771356600-1771367400@www.liveinlou.com
SUMMARY:27th Annual Fat Tuesday Crawfish Boil
DESCRIPTION:Mag Bar is back for their 27th annual Fat Tuesday Crawfish Boil. Join us at Chef Roy boils up a Cajun delight. \nFirst drop around 7:30 PM. \nDrops approximately every 45 minutes until we run out. 6 to 8 drops. \n$10 entry \nFor more information: Mag Bar – Events
URL:https://www.liveinlou.com/event/27th-annual-fat-tuesday-crawfish-boil/
LOCATION:Mag Bar\, 1398 S 2nd Street\, Louisville\, KY\, 40208\, United States
CATEGORIES:Food,Holidays
END:VEVENT
BEGIN:VEVENT
DTSTART;TZID=America/Kentucky/Louisville:20260214T090000
DTEND;TZID=America/Kentucky/Louisville:20260214T110000
DTSTAMP:20260424T153743
CREATED:20260115T172009Z
LAST-MODIFIED:20260115T172009Z
UID:10000232-1771059600-1771066800@www.liveinlou.com
SUMMARY:Breakfast with Native Birds
DESCRIPTION:Join us for Breakfast with the Beasts\, where you’ll have the chance to enjoy a morning meal while observing and learning about the fascinating world of native birds. Wake up with some of your favorite animals in this program that brings a special look into how our animals start the day. Tickets include a hot breakfast featuring a waffle bar (Belgian waffles\, assorted toppings\, sausage links\, fresh brewed coffee\, orange juice and water)\, parking and admission for the day at the Zoo. Breakfast will occur near the featured animals’ exhibit area and all programs will feature an exclusive keeper talk along with a chance to create enrichment for one of the Zoo’s animals! \nTickets and more information can be found here: https://louisvillezoo.org/event/breakfast-with-the-beasts-native-birds-2026-02-14/
URL:https://www.liveinlou.com/event/breakfast-with-native-birds/
LOCATION:Louisville Zoo\, 1100 Trevilian Way\, Louisville\, KY\, 40213\, United States
CATEGORIES:Community Fun,Family Fun,Food
END:VEVENT
BEGIN:VEVENT
DTSTART;TZID=America/Kentucky/Louisville:20260213T000000
DTEND;TZID=America/Kentucky/Louisville:20260213T000000
DTSTAMP:20260424T153743
CREATED:20251122T182622Z
LAST-MODIFIED:20251202T154633Z
UID:10000165-1770940800-1770940800@www.liveinlou.com
SUMMARY:Pizza and Vinyl night
DESCRIPTION:🎶🍕 Pizza & Vinyl Night at Oldham Gardens 🍕🎶 \nKick off your weekend the right way at Pizza & Vinyl Night\, a Friday night series celebrating great music\, great food\, and cozy winter vibes. Join us at Oldham Gardens as live DJs spin records\, vinyls are available for browsing and buying\, and Slice N Dice keeps the pizza flowing all night long. \n📀 Friday Dates:\n• December 19th\n• January 16th\n• February 13th \n⏰ Time: 5:30–9:30 PM\n📍 Location: Oldham Gardens \nWhether you're a music lover\, a vinyl hunter\, or just looking for a fun Friday night outing\, this series has something for everyone. Grab a slice\, grab a drink\, and settle in for a perfect evening of records and relaxation.
URL:https://www.liveinlou.com/event/pizza-and-vinyl-night-2/
LOCATION:KY
CATEGORIES:Community Fun,Food,Music
ATTACH;FMTTYPE=image/png:https://www.liveinlou.com/wp-content/uploads/2025/11/11.14.2025-Pizza-and-Vinyl-Night-22.png
END:VEVENT
BEGIN:VEVENT
DTSTART;TZID=America/Kentucky/Louisville:20260212T180000
DTEND;TZID=America/Kentucky/Louisville:20260212T203000
DTSTAMP:20260424T153743
CREATED:20260205T145822Z
LAST-MODIFIED:20260205T145822Z
UID:10000320-1770919200-1770928200@www.liveinlou.com
SUMMARY:Bulleit Bourbon Dinner
DESCRIPTION:Join High Stakes Rooftop for a Bulleit Bourbon Dinner on Thursday\, Feb. 12\, for a bourbon-fueled four-course dinner. Dinner begins at 6 p.m. with a welcome Brown Butter Bulleit Old Fashioned. Tickets for the event are $80 per person. Tickets can be purchased on OpenTable.  
URL:https://www.liveinlou.com/event/bulleit-bourbon-dinner/
LOCATION:High Stakes Rooftop\, 710 E Jefferson Street\, Louisville\, KY\, 40202\, United States
CATEGORIES:Bourbon + More,Food
END:VEVENT
BEGIN:VEVENT
DTSTART;TZID=America/Kentucky/Louisville:20260211T200000
DTEND;TZID=America/Kentucky/Louisville:20260211T233000
DTSTAMP:20260424T153743
CREATED:20260120T155755Z
LAST-MODIFIED:20260325T164633Z
UID:10000265-1770840000-1770852600@www.liveinlou.com
SUMMARY:Karaoke at The Palm Room
DESCRIPTION:Come join us every Wednesday night at the Palm Room for a fun-filled evening of singing your heart out! Happy Hour specials from 5-9pm!
URL:https://www.liveinlou.com/event/karaoke-at-the-palm-room/2026-02-11/
LOCATION:The Palm Room\, 1821 W Jefferson Street\, Louisville\, Kentucky
CATEGORIES:Bourbon + More,Community Fun,Food
END:VEVENT
BEGIN:VEVENT
DTSTART;TZID=America/Kentucky/Louisville:20260128T200000
DTEND;TZID=America/Kentucky/Louisville:20260128T233000
DTSTAMP:20260424T153743
CREATED:20260120T155755Z
LAST-MODIFIED:20260325T164633Z
UID:10000279-1769630400-1769643000@www.liveinlou.com
SUMMARY:Karaoke at The Palm Room
DESCRIPTION:Come join us every Wednesday night at the Palm Room for a fun-filled evening of singing your heart out! Happy Hour specials from 5-9pm!
URL:https://www.liveinlou.com/event/karaoke-at-the-palm-room/2026-01-28/
LOCATION:The Palm Room\, 1821 W Jefferson Street\, Louisville\, Kentucky
CATEGORIES:Bourbon + More,Community Fun,Food
END:VEVENT
BEGIN:VEVENT
DTSTART;TZID=America/Kentucky/Louisville:20260124T000000
DTEND;TZID=America/Kentucky/Louisville:20260124T000000
DTSTAMP:20260424T153743
CREATED:20251230T031521Z
LAST-MODIFIED:20260106T152549Z
UID:10000209-1769212800-1769212800@www.liveinlou.com
SUMMARY:Jazz Brunch at High Stakes Rooftop
DESCRIPTION:Savor a sophisticated Jazz Brunch at High Stakes Rooftop\, featuring soulful live performances by the talented local artist Carly Johnson. \nEnjoy breathtaking city views as you indulge in delicious food and sip on our exceptional handcrafted cocktails. Whether relaxing with friends or celebrating a special occasion\, this brunch offers a perfect blend of great music\, stunning scenery\, and delectable eats in an elevated setting. \nBrunch is 9am to 2pm\nlive music from 11am-2pm \nReservations strongly advised.
URL:https://www.liveinlou.com/event/jazz-brunch-at-high-stakes-rooftop/
LOCATION:KY
CATEGORIES:Community Fun,Food,Music
ATTACH;FMTTYPE=image/png:https://www.liveinlou.com/wp-content/uploads/2025/12/Screenshot-2025-10-10-at-11.37.01-AM2.png
END:VEVENT
BEGIN:VEVENT
DTSTART;VALUE=DATE:20260123
DTEND;VALUE=DATE:20260202
DTSTAMP:20260424T153743
CREATED:20260115T173404Z
LAST-MODIFIED:20260115T173404Z
UID:10000227-1769126400-1769990399@www.liveinlou.com
SUMMARY:The Downtown Hometown Tourist Celebration
DESCRIPTION:Residents of Greater Louisville and Southern Indiana are invited to celebrate their city and visit local tourist spots in their Downtown between January 23rd and February 1st from 9:00 am to 5:00 pm!  \nWhether it’s visiting a favorite museum\, stopping by one of our local bourbon experiences\, or celebrating what makes our community unique\, our Downtown is packed with experiences that benefit both residents and visitors alike. \nLearn more here: https://louisvilledowntown.org/hometown-tourist-celebration/\nPurchase tickets for events here: https://reservations.gotolouisville.com/attraction/list/21118/m3144
URL:https://www.liveinlou.com/event/the-downtown-hometown-tourist-celebration/
LOCATION:KY
CATEGORIES:Bourbon + More,Community Fun,Family Fun,Food,Tours
END:VEVENT
BEGIN:VEVENT
DTSTART;TZID=America/Kentucky/Louisville:20260122T173000
DTEND;TZID=America/Kentucky/Louisville:20260122T210000
DTSTAMP:20260424T153743
CREATED:20260120T164754Z
LAST-MODIFIED:20260120T164754Z
UID:10000282-1769103000-1769115600@www.liveinlou.com
SUMMARY:University Club Trivia Night
DESCRIPTION:Trivia Night at the University Club Louisville. $25.00. Max of 8 guests per team. Single players will join other teams to fill tables. This event is sponsored by a club member so all are welcome.  \nInclusive per person – includes Food and Prizes. Max of 8 guests per team.  \nSingle players will join other teams to fill tables. This event is sponsored by a club member\, so all are welcome. Dinner served at 5:30 – Trivia at 6:30 PM. \nCall 502.852.6996 to reserve a spot.
URL:https://www.liveinlou.com/event/university-club-trivia-night/
LOCATION:University Club\, 464 E Brandeis Ave\, Louisville\, KY\, United States
CATEGORIES:Community Fun,Food,Trivia
END:VEVENT
BEGIN:VEVENT
DTSTART;TZID=America/Kentucky/Louisville:20260121T200000
DTEND;TZID=America/Kentucky/Louisville:20260121T233000
DTSTAMP:20260424T153743
CREATED:20260120T155755Z
LAST-MODIFIED:20260325T164633Z
UID:10000278-1769025600-1769038200@www.liveinlou.com
SUMMARY:Karaoke at The Palm Room
DESCRIPTION:Come join us every Wednesday night at the Palm Room for a fun-filled evening of singing your heart out! Happy Hour specials from 5-9pm!
URL:https://www.liveinlou.com/event/karaoke-at-the-palm-room/2026-01-21/
LOCATION:The Palm Room\, 1821 W Jefferson Street\, Louisville\, Kentucky
CATEGORIES:Bourbon + More,Community Fun,Food
END:VEVENT
BEGIN:VEVENT
DTSTART;TZID=America/Kentucky/Louisville:20260117T090000
DTEND;TZID=America/Kentucky/Louisville:20260117T113000
DTSTAMP:20260424T153743
CREATED:20260115T171134Z
LAST-MODIFIED:20260115T171134Z
UID:10000230-1768640400-1768649400@www.liveinlou.com
SUMMARY:MLK Commemorative Breakfast 2026
DESCRIPTION:Join us in person to honor Dr. King’s legacy with inspiring talks and a delicious breakfast! \nTickets and other information can be found here: https://loutoday.6amcity.com/events#/details/dr-martin-luther-king-jr-commemorative-breakfast-2026/17707769/2026-01-17T09
URL:https://www.liveinlou.com/event/mlk-commemorative-breakfast-2026/
LOCATION:The Galt House\, 140 North Fourth Street\, Louisville\, KY\, 40202\, United States
CATEGORIES:Food,Holidays
END:VEVENT
BEGIN:VEVENT
DTSTART;TZID=America/Kentucky/Louisville:20260117T090000
DTEND;TZID=America/Kentucky/Louisville:20260117T110000
DTSTAMP:20260424T153743
CREATED:20260115T171811Z
LAST-MODIFIED:20260115T171811Z
UID:10000231-1768640400-1768647600@www.liveinlou.com
SUMMARY:Breakfast with the Penguins
DESCRIPTION:Join us for Breakfast with the Beasts\, where you’ll have the chance to enjoy a morning meal while observing and learning about the fascinating world of Penguins. Tickets include a hot breakfast featuring a waffle bar (Belgian waffles\, assorted toppings\, sausage links\, fresh brewed coffee\, orange juice and water)\, parking and admission for the day at the Zoo. Breakfast will occur near the featured animals’ exhibit area and all programs will feature an exclusive keeper talk along with a chance to create enrichment for one of the Zoo’s animals! \nYou can find tickets and more information here: https://louisvillezoo.org/event/breakfast-with-the-beasts-penguins-2026-01-17/
URL:https://www.liveinlou.com/event/breakfast-with-the-penguins/
LOCATION:Louisville Zoo\, 1100 Trevilian Way\, Louisville\, KY\, 40213\, United States
CATEGORIES:Community Fun,Family Fun,Food
END:VEVENT
BEGIN:VEVENT
DTSTART;TZID=America/Kentucky/Louisville:20260116T000000
DTEND;TZID=America/Kentucky/Louisville:20260116T000000
DTSTAMP:20260424T153743
CREATED:20251122T182559Z
LAST-MODIFIED:20251202T154702Z
UID:10000166-1768521600-1768521600@www.liveinlou.com
SUMMARY:Pizza and Vinyl night
DESCRIPTION:🎶🍕 Pizza & Vinyl Night at Oldham Gardens 🍕🎶 \nKick off your weekend the right way at Pizza & Vinyl Night\, a Friday night series celebrating great music\, great food\, and cozy winter vibes. Join us at Oldham Gardens as live DJs spin records\, vinyls are available for browsing and buying\, and Slice N Dice keeps the pizza flowing all night long. \n📀 Friday Dates:\n• December 19th\n• January 16th\n• February 13th \n⏰ Time: 5:30–9:30 PM\n📍 Location: Oldham Gardens \nWhether you're a music lover\, a vinyl hunter\, or just looking for a fun Friday night outing\, this series has something for everyone. Grab a slice\, grab a drink\, and settle in for a perfect evening of records and relaxation.
URL:https://www.liveinlou.com/event/pizza-and-vinyl-night-3/
LOCATION:KY
CATEGORIES:Food,Music
ATTACH;FMTTYPE=image/png:https://www.liveinlou.com/wp-content/uploads/2025/11/11.14.2025-Pizza-and-Vinyl-Night-21.png
END:VEVENT
BEGIN:VEVENT
DTSTART;TZID=America/Kentucky/Louisville:20251219T170000
DTEND;TZID=America/Kentucky/Louisville:20251219T210000
DTSTAMP:20260424T153743
CREATED:20251203T192244Z
LAST-MODIFIED:20251203T192244Z
UID:10000180-1766163600-1766178000@www.liveinlou.com
SUMMARY:Candy Cane Lane at House of Marigold
DESCRIPTION:The Candy Cane Lane pop-up will offer something unique for guests to enjoy each night. Across all four nights\, guests can enjoy the limited-time Candy Cane Lane food\, cocktail menu\, and activities.
URL:https://www.liveinlou.com/event/candy-cane-lane-at-house-of-marigold/2025-12-19/
LOCATION:House of Marigold\, 10310 Shelbyville Rd.\, Louisville\, Kentucky\, 40223
CATEGORIES:Bourbon + More,Community Fun,Crafts,Food,Holidays
END:VEVENT
BEGIN:VEVENT
DTSTART;TZID=America/Kentucky/Louisville:20251219T000000
DTEND;TZID=America/Kentucky/Louisville:20251219T000000
DTSTAMP:20260424T153743
CREATED:20251122T182502Z
LAST-MODIFIED:20251202T154721Z
UID:10000167-1766102400-1766102400@www.liveinlou.com
SUMMARY:Pizza and Vinyl Night
DESCRIPTION:🎶🍕 Pizza & Vinyl Night at Oldham Gardens 🍕🎶 \nKick off your weekend the right way at Pizza & Vinyl Night\, a Friday night series celebrating great music\, great food\, and cozy winter vibes. Join us at Oldham Gardens as live DJs spin records\, vinyls are available for browsing and buying\, and Slice N Dice keeps the pizza flowing all night long. \n📀 Friday Dates:\n• December 19th\n• January 16th\n• February 13th \n⏰ Time: 5:30–9:30 PM\n📍 Location: Oldham Gardens \nWhether you're a music lover\, a vinyl hunter\, or just looking for a fun Friday night outing\, this series has something for everyone. Grab a slice\, grab a drink\, and settle in for a perfect evening of records and relaxation.
URL:https://www.liveinlou.com/event/pizza-and-vinyl-night-4/
LOCATION:KY
CATEGORIES:Food,Music
ATTACH;FMTTYPE=image/png:https://www.liveinlou.com/wp-content/uploads/2025/11/11.14.2025-Pizza-and-Vinyl-Night-2.png
END:VEVENT
BEGIN:VEVENT
DTSTART;TZID=America/Kentucky/Louisville:20251218T170000
DTEND;TZID=America/Kentucky/Louisville:20251218T210000
DTSTAMP:20260424T153743
CREATED:20251203T192244Z
LAST-MODIFIED:20251203T192244Z
UID:10000179-1766077200-1766091600@www.liveinlou.com
SUMMARY:Candy Cane Lane at House of Marigold
DESCRIPTION:The Candy Cane Lane pop-up will offer something unique for guests to enjoy each night. Across all four nights\, guests can enjoy the limited-time Candy Cane Lane food\, cocktail menu\, and activities.
URL:https://www.liveinlou.com/event/candy-cane-lane-at-house-of-marigold/2025-12-18/
LOCATION:House of Marigold\, 10310 Shelbyville Rd.\, Louisville\, Kentucky\, 40223
CATEGORIES:Bourbon + More,Community Fun,Crafts,Food,Holidays
END:VEVENT
BEGIN:VEVENT
DTSTART;TZID=America/Kentucky/Louisville:20251212T170000
DTEND;TZID=America/Kentucky/Louisville:20251212T210000
DTSTAMP:20260424T153743
CREATED:20251203T192244Z
LAST-MODIFIED:20251203T192244Z
UID:10000178-1765558800-1765573200@www.liveinlou.com
SUMMARY:Candy Cane Lane at House of Marigold
DESCRIPTION:The Candy Cane Lane pop-up will offer something unique for guests to enjoy each night. Across all four nights\, guests can enjoy the limited-time Candy Cane Lane food\, cocktail menu\, and activities.
URL:https://www.liveinlou.com/event/candy-cane-lane-at-house-of-marigold/2025-12-12/
LOCATION:House of Marigold\, 10310 Shelbyville Rd.\, Louisville\, Kentucky\, 40223
CATEGORIES:Bourbon + More,Community Fun,Crafts,Food,Holidays
END:VEVENT
BEGIN:VEVENT
DTSTART;TZID=America/Kentucky/Louisville:20251211T170000
DTEND;TZID=America/Kentucky/Louisville:20251211T210000
DTSTAMP:20260424T153743
CREATED:20251203T192244Z
LAST-MODIFIED:20251203T192244Z
UID:10000177-1765472400-1765486800@www.liveinlou.com
SUMMARY:Candy Cane Lane at House of Marigold
DESCRIPTION:The Candy Cane Lane pop-up will offer something unique for guests to enjoy each night. Across all four nights\, guests can enjoy the limited-time Candy Cane Lane food\, cocktail menu\, and activities.
URL:https://www.liveinlou.com/event/candy-cane-lane-at-house-of-marigold/2025-12-11/
LOCATION:House of Marigold\, 10310 Shelbyville Rd.\, Louisville\, Kentucky\, 40223
CATEGORIES:Bourbon + More,Community Fun,Crafts,Food,Holidays
END:VEVENT
END:VCALENDAR