BEGIN:VCALENDAR
VERSION:2.0
PRODID:-//Live in Lou - ECPv6.15.20//NONSGML v1.0//EN
CALSCALE:GREGORIAN
METHOD:PUBLISH
X-WR-CALNAME:Live in Lou
X-ORIGINAL-URL:https://www.liveinlou.com
X-WR-CALDESC:Events for Live in Lou
REFRESH-INTERVAL;VALUE=DURATION:PT1H
X-Robots-Tag:noindex
X-PUBLISHED-TTL:PT1H
BEGIN:VTIMEZONE
TZID:America/Kentucky/Louisville
BEGIN:DAYLIGHT
TZOFFSETFROM:-0500
TZOFFSETTO:-0400
TZNAME:EDT
DTSTART:20250309T070000
END:DAYLIGHT
BEGIN:STANDARD
TZOFFSETFROM:-0400
TZOFFSETTO:-0500
TZNAME:EST
DTSTART:20251102T060000
END:STANDARD
BEGIN:DAYLIGHT
TZOFFSETFROM:-0500
TZOFFSETTO:-0400
TZNAME:EDT
DTSTART:20260308T070000
END:DAYLIGHT
BEGIN:STANDARD
TZOFFSETFROM:-0400
TZOFFSETTO:-0500
TZNAME:EST
DTSTART:20261101T060000
END:STANDARD
BEGIN:DAYLIGHT
TZOFFSETFROM:-0500
TZOFFSETTO:-0400
TZNAME:EDT
DTSTART:20270314T070000
END:DAYLIGHT
BEGIN:STANDARD
TZOFFSETFROM:-0400
TZOFFSETTO:-0500
TZNAME:EST
DTSTART:20271107T060000
END:STANDARD
END:VTIMEZONE
BEGIN:VEVENT
DTSTART;VALUE=DATE:20260515
DTEND;VALUE=DATE:20260518
DTSTAMP:20260423T102614
CREATED:20260413T143019Z
LAST-MODIFIED:20260413T143019Z
UID:10000438-1778803200-1779062399@www.liveinlou.com
SUMMARY:Ringling Bros. and Barnum & Bailey Presents The Greatest Show On Earth
DESCRIPTION:Step inside The Greatest Party On Earth – Ringling Bros. and Barnum & Bailey® Presents The Greatest Show On Earth®! Reimagined for a new generation\, this larger-than-life production bursts into Louisville\, playing at the KFC Yum! Center from May 15-17\, 2026\, with new acts\, jaw-dropping talent\, and the high-flying excitement that has defined The Greatest Show On Earth® for more than 150 years. \nThe Greatest Show On Earth® is back with a high-energy\, music-driven experience with bold circus performances\, unforgettable characters\, and a nonstop party vibe. This new production moves at the speed of today’s world: fast-paced\, dynamic\, and full of energy – bringing audiences closer than ever to the talent and heart that make The Greatest Show On Earth® unforgettable. It’s an adrenaline-packed celebration of human talent\, where world-class athletes and performers from around the globe showcase extraordinary\, jaw-dropping skills that make Children Of All Ages feel like they’re part of The Greatest Party On Earth! \nFor tickets and more information: Ringling Bros. and Barnum & Bailey Presents The Greatest Show On Earth | KFC Yum! Center
URL:https://www.liveinlou.com/event/ringling-bros-and-barnum-bailey-presents-the-greatest-show-on-earth/
LOCATION:KY
CATEGORIES:Community Fun,Family Fun,Performing Arts
END:VEVENT
BEGIN:VEVENT
DTSTART;TZID=America/Kentucky/Louisville:20260518T203000
DTEND;TZID=America/Kentucky/Louisville:20260518T220000
DTSTAMP:20260423T102614
CREATED:20260413T143915Z
LAST-MODIFIED:20260413T143915Z
UID:10000440-1779136200-1779141600@www.liveinlou.com
SUMMARY:The Princess Bride at Iroquois Park
DESCRIPTION:Experience the magic of the movies like never before with Hollywood Classics Under the Stars at Iroquois Amphitheater—a free outdoor film series that brings timeless cinema to life in a breathtaking open-air setting. Gather your friends\, family\, and a blanket for unforgettable evenings filled with iconic films\, cool night air\, and the charm of the big screen beneath the stars! \nOn Monday\, May 18\, Iroquois park will displa’y The Princess Bride’ presented by Monticello Bank! \nFor more information: Hollywood Classics Under The Stars – Iroquois Amphitheater
URL:https://www.liveinlou.com/event/the-princess-bride-at-iroquois-park/
LOCATION:Iroquois Ampitheater\, 1080 Amphitheater Road\, Louisville\, KY\, 40214\, United States
CATEGORIES:Community Fun,Family Fun,Performing Arts
END:VEVENT
BEGIN:VEVENT
DTSTART;TZID=America/Kentucky/Louisville:20260601T203000
DTEND;TZID=America/Kentucky/Louisville:20260601T223000
DTSTAMP:20260423T102614
CREATED:20260413T152310Z
LAST-MODIFIED:20260413T152310Z
UID:10000452-1780345800-1780353000@www.liveinlou.com
SUMMARY:'When We Were Kings" at Iroquois Amphitheater
DESCRIPTION:Experience the magic of the movies like never before with Hollywood Classics Under the Stars at Iroquois Amphitheater—a free outdoor film series that brings timeless cinema to life in a breathtaking open-air setting. Gather your friends\, family\, and a blanket for unforgettable evenings filled with iconic films\, cool night air\, and the charm of the big screen beneath the stars! \nOn Monday\, June 1\, see the showing of ‘When We Were Kings.’ \nFor more information: When We Were Kings – Iroquois Amphitheater
URL:https://www.liveinlou.com/event/when-we-were-kings-at-iroquois-amphitheater/
LOCATION:Iroquois Ampitheater\, 1080 Amphitheater Road\, Louisville\, KY\, 40214\, United States
CATEGORIES:Community Fun,Family Fun,Performing Arts
END:VEVENT
END:VCALENDAR